BEGIN:VCALENDAR
VERSION:2.0
PRODID:-//Ha&#039;Penny Bay Beach Club - ECPv6.15.20//NONSGML v1.0//EN
CALSCALE:GREGORIAN
METHOD:PUBLISH
X-WR-CALNAME:Ha&#039;Penny Bay Beach Club
X-ORIGINAL-URL:https://www.hapennyclub.com
X-WR-CALDESC:Events for Ha&#039;Penny Bay Beach Club
REFRESH-INTERVAL;VALUE=DURATION:PT1H
X-Robots-Tag:noindex
X-PUBLISHED-TTL:PT1H
BEGIN:VTIMEZONE
TZID:America/St_Thomas
BEGIN:STANDARD
TZOFFSETFROM:-0400
TZOFFSETTO:-0400
TZNAME:AST
DTSTART:20130101T000000
END:STANDARD
END:VTIMEZONE
BEGIN:VEVENT
DTSTART;TZID=America/St_Thomas:20141113T100000
DTEND;TZID=America/St_Thomas:20141113T100000
DTSTAMP:20260421T211450
CREATED:20141105T224248Z
LAST-MODIFIED:20141105T224248Z
UID:186-1415872800-1415872800@www.hapennyclub.com
SUMMARY:Beginner Bridge
DESCRIPTION:
URL:https://www.hapennyclub.com/event/beginner-bridge-2/
END:VEVENT
BEGIN:VEVENT
DTSTART;TZID=America/St_Thomas:20141112T090000
DTEND;TZID=America/St_Thomas:20141112T090000
DTSTAMP:20260421T211450
CREATED:20141105T191234Z
LAST-MODIFIED:20141105T191251Z
UID:173-1415782800-1415782800@www.hapennyclub.com
SUMMARY:Yoga
DESCRIPTION:
URL:https://www.hapennyclub.com/event/yoga-2/
END:VEVENT
BEGIN:VEVENT
DTSTART;TZID=America/St_Thomas:20141111T183000
DTEND;TZID=America/St_Thomas:20141111T183000
DTSTAMP:20260421T211450
CREATED:20141105T222720Z
LAST-MODIFIED:20141105T223302Z
UID:184-1415730600-1415730600@www.hapennyclub.com
SUMMARY:Dinner - Steak Night
DESCRIPTION:Caprese Salad\nGrilled Asparagus\nLoaded Baked Potato\nGrilled Filet Mignon \nDessert – Sundae Bar
URL:https://www.hapennyclub.com/event/dinner-steak-night/
END:VEVENT
BEGIN:VEVENT
DTSTART;TZID=America/St_Thomas:20141109T173000
DTEND;TZID=America/St_Thomas:20141109T173000
DTSTAMP:20260421T211450
CREATED:20141105T191624Z
LAST-MODIFIED:20141105T193847Z
UID:174-1415554200-1415554200@www.hapennyclub.com
SUMMARY:Sunday Supper
DESCRIPTION:Welcome back! Tonight features a Caribbean-inspired dinner: \nLocal Sweet Potato Salad; Sweet and Sour Caribbean Slaw; Curried\, Black-Eyed Peas; Grilled Shrimp & Pineapple Skewers; BBQ Baby-Back Ribs \nDessert: Rum Cake
URL:https://www.hapennyclub.com/event/sunday-supper/
END:VEVENT
BEGIN:VEVENT
DTSTART;TZID=America/St_Thomas:20141107T090000
DTEND;TZID=America/St_Thomas:20141107T090000
DTSTAMP:20260421T211450
CREATED:20141105T191650Z
LAST-MODIFIED:20141105T191650Z
UID:175-1415350800-1415350800@www.hapennyclub.com
SUMMARY:Yoga
DESCRIPTION:
URL:https://www.hapennyclub.com/event/yoga-3/
END:VEVENT
BEGIN:VEVENT
DTSTART;TZID=America/St_Thomas:20141106T100000
DTEND;TZID=America/St_Thomas:20141106T100000
DTSTAMP:20260421T211450
CREATED:20141105T222522Z
LAST-MODIFIED:20141105T222522Z
UID:183-1415268000-1415268000@www.hapennyclub.com
SUMMARY:Beginner Bridge
DESCRIPTION:
URL:https://www.hapennyclub.com/event/beginner-bridge/
END:VEVENT
BEGIN:VEVENT
DTSTART;TZID=America/St_Thomas:20141105T090000
DTEND;TZID=America/St_Thomas:20141105T090000
DTSTAMP:20260421T211450
CREATED:20141105T191741Z
LAST-MODIFIED:20141105T222214Z
UID:176-1415178000-1415178000@www.hapennyclub.com
SUMMARY:Yoga
DESCRIPTION:
URL:https://www.hapennyclub.com/event/yoga-4/
END:VEVENT
BEGIN:VEVENT
DTSTART;TZID=America/St_Thomas:20141104T183000
DTEND;TZID=America/St_Thomas:20141104T183000
DTSTAMP:20260421T211450
CREATED:20141105T191824Z
LAST-MODIFIED:20141105T194027Z
UID:177-1415125800-1415125800@www.hapennyclub.com
SUMMARY:Dinner
DESCRIPTION:First Course: Frisee Salad with fried prosciutto\, apricots\, and bleu cheese\, finished with a lemon vinaigrette and a poached egg. \nMain Course: Veal Milanese served over a warm potato salad and maple-roasted radicchiio. \nDessert: Frangelico pot a creme with berries.
URL:https://www.hapennyclub.com/event/dinner/
END:VEVENT
END:VCALENDAR