BEGIN:VCALENDAR
VERSION:2.0
PRODID:-//Ha&#039;Penny Bay Beach Club - ECPv6.15.20//NONSGML v1.0//EN
CALSCALE:GREGORIAN
METHOD:PUBLISH
X-ORIGINAL-URL:https://www.hapennyclub.com
X-WR-CALDESC:Events for Ha&#039;Penny Bay Beach Club
REFRESH-INTERVAL;VALUE=DURATION:PT1H
X-Robots-Tag:noindex
X-PUBLISHED-TTL:PT1H
BEGIN:VTIMEZONE
TZID:America/St_Thomas
BEGIN:STANDARD
TZOFFSETFROM:-0400
TZOFFSETTO:-0400
TZNAME:AST
DTSTART:20140101T000000
END:STANDARD
END:VTIMEZONE
BEGIN:VEVENT
DTSTART;TZID=America/St_Thomas:20150117T190000
DTEND;TZID=America/St_Thomas:20150117T190000
DTSTAMP:20260421T211531
CREATED:20150102T012251Z
LAST-MODIFIED:20150102T012251Z
UID:299-1421521200-1421521200@www.hapennyclub.com
SUMMARY:Booze\, Boots & Barbecue Dance Party
DESCRIPTION:
URL:https://www.hapennyclub.com/event/booze-boots-barbecue-dance-party/
END:VEVENT
BEGIN:VEVENT
DTSTART;VALUE=DATE:20150118
DTEND;VALUE=DATE:20150119
DTSTAMP:20260421T211531
CREATED:20150102T012431Z
LAST-MODIFIED:20150102T012431Z
UID:302-1421539200-1421625599@www.hapennyclub.com
SUMMARY:Club Closed
DESCRIPTION:
URL:https://www.hapennyclub.com/event/club-closed-4/
END:VEVENT
BEGIN:VEVENT
DTSTART;TZID=America/St_Thomas:20150120T183000
DTEND;TZID=America/St_Thomas:20150120T183000
DTSTAMP:20260421T211531
CREATED:20150118T012833Z
LAST-MODIFIED:20150118T012833Z
UID:314-1421778600-1421778600@www.hapennyclub.com
SUMMARY:Italian Steak Night
DESCRIPTION:Caprese Salad\, Herbed Filet Mignon\, Orecchiette in Cream Sauce\, Roasted Asparagus\, Zabaglione
URL:https://www.hapennyclub.com/event/italian-steak-night/
END:VEVENT
BEGIN:VEVENT
DTSTART;TZID=America/St_Thomas:20150121T130000
DTEND;TZID=America/St_Thomas:20150121T130000
DTSTAMP:20260421T211531
CREATED:20141106T005326Z
LAST-MODIFIED:20141106T005448Z
UID:199-1421845200-1421845200@www.hapennyclub.com
SUMMARY:Book Review
DESCRIPTION:Lunch at noon.
URL:https://www.hapennyclub.com/event/book-review/
END:VEVENT
BEGIN:VEVENT
DTSTART;TZID=America/St_Thomas:20150124T103000
DTEND;TZID=America/St_Thomas:20150124T103000
DTSTAMP:20260421T211531
CREATED:20150102T012333Z
LAST-MODIFIED:20150102T012333Z
UID:300-1422095400-1422095400@www.hapennyclub.com
SUMMARY:Annual Meeting
DESCRIPTION:
URL:https://www.hapennyclub.com/event/annual-meeting/
END:VEVENT
BEGIN:VEVENT
DTSTART;TZID=America/St_Thomas:20150124T120000
DTEND;TZID=America/St_Thomas:20150124T120000
DTSTAMP:20260421T211531
CREATED:20150102T012402Z
LAST-MODIFIED:20150102T012402Z
UID:301-1422100800-1422100800@www.hapennyclub.com
SUMMARY:Lunch
DESCRIPTION:
URL:https://www.hapennyclub.com/event/lunch-6/
END:VEVENT
BEGIN:VEVENT
DTSTART;TZID=America/St_Thomas:20150125T090000
DTEND;TZID=America/St_Thomas:20150125T090000
DTSTAMP:20260421T211531
CREATED:20150102T012509Z
LAST-MODIFIED:20150102T012509Z
UID:303-1422176400-1422176400@www.hapennyclub.com
SUMMARY:Tennis Tournament
DESCRIPTION:
URL:https://www.hapennyclub.com/event/tennis-tournament/
END:VEVENT
BEGIN:VEVENT
DTSTART;TZID=America/St_Thomas:20150125T173000
DTEND;TZID=America/St_Thomas:20150125T173000
DTSTAMP:20260421T211531
CREATED:20150102T012542Z
LAST-MODIFIED:20150102T012542Z
UID:304-1422207000-1422207000@www.hapennyclub.com
SUMMARY:Casual Dining
DESCRIPTION:
URL:https://www.hapennyclub.com/event/casual-dining-2/
END:VEVENT
BEGIN:VEVENT
DTSTART;TZID=America/St_Thomas:20150127T183000
DTEND;TZID=America/St_Thomas:20150127T183000
DTSTAMP:20260421T211531
CREATED:20150121T191547Z
LAST-MODIFIED:20150121T191547Z
UID:315-1422383400-1422383400@www.hapennyclub.com
SUMMARY:Tuesday Dinner
DESCRIPTION:Conch Chowder\, Pork Medallions\, Whipped Potatoes\, Green Beans\, Chocolate Pot de Creme
URL:https://www.hapennyclub.com/event/tuesday-dinner-2/
END:VEVENT
BEGIN:VEVENT
DTSTART;TZID=America/St_Thomas:20150129T100000
DTEND;TZID=America/St_Thomas:20150129T100000
DTSTAMP:20260421T211531
CREATED:20150129T211930Z
LAST-MODIFIED:20150129T211930Z
UID:317-1422525600-1422525600@www.hapennyclub.com
SUMMARY:Bridge & Games Day
DESCRIPTION:
URL:https://www.hapennyclub.com/event/bridge-games-day/
END:VEVENT
BEGIN:VEVENT
DTSTART;TZID=America/St_Thomas:20150129T120000
DTEND;TZID=America/St_Thomas:20150129T120000
DTSTAMP:20260421T211531
CREATED:20150129T212001Z
LAST-MODIFIED:20150129T212001Z
UID:318-1422532800-1422532800@www.hapennyclub.com
SUMMARY:Lunch
DESCRIPTION:
URL:https://www.hapennyclub.com/event/lunch-9/
END:VEVENT
BEGIN:VEVENT
DTSTART;TZID=America/St_Thomas:20150130T090000
DTEND;TZID=America/St_Thomas:20150130T090000
DTSTAMP:20260421T211531
CREATED:20150129T212028Z
LAST-MODIFIED:20150129T212028Z
UID:319-1422608400-1422608400@www.hapennyclub.com
SUMMARY:Yoga
DESCRIPTION:
URL:https://www.hapennyclub.com/event/yoga-19/
END:VEVENT
BEGIN:VEVENT
DTSTART;VALUE=DATE:20150201
DTEND;VALUE=DATE:20150202
DTSTAMP:20260421T211531
CREATED:20150129T212053Z
LAST-MODIFIED:20150129T212053Z
UID:320-1422748800-1422835199@www.hapennyclub.com
SUMMARY:Club Closed - Super Bowl
DESCRIPTION:
URL:https://www.hapennyclub.com/event/club-closed-super-bowl/
END:VEVENT
BEGIN:VEVENT
DTSTART;TZID=America/St_Thomas:20150203T183000
DTEND;TZID=America/St_Thomas:20150203T183000
DTSTAMP:20260421T211531
CREATED:20150129T212246Z
LAST-MODIFIED:20150129T212246Z
UID:321-1422988200-1422988200@www.hapennyclub.com
SUMMARY:Tuesday Dinner
DESCRIPTION:Bibb Lettuce Greek Salad\, Coquilles St Jacques\, Herb Rice\, Spaghetti Squash & Zucchini\, Lemon Cake
URL:https://www.hapennyclub.com/event/tuesday-dinner-3/
END:VEVENT
BEGIN:VEVENT
DTSTART;TZID=America/St_Thomas:20150204T090000
DTEND;TZID=America/St_Thomas:20150204T090000
DTSTAMP:20260421T211531
CREATED:20150129T212319Z
LAST-MODIFIED:20150129T212319Z
UID:322-1423040400-1423040400@www.hapennyclub.com
SUMMARY:Yoga
DESCRIPTION:
URL:https://www.hapennyclub.com/event/yoga-20/
END:VEVENT
BEGIN:VEVENT
DTSTART;TZID=America/St_Thomas:20150204T100000
DTEND;TZID=America/St_Thomas:20150204T100000
DTSTAMP:20260421T211531
CREATED:20150129T212346Z
LAST-MODIFIED:20150129T212346Z
UID:323-1423044000-1423044000@www.hapennyclub.com
SUMMARY:Sew and Tell
DESCRIPTION:
URL:https://www.hapennyclub.com/event/sew-and-tell-3/
END:VEVENT
BEGIN:VEVENT
DTSTART;TZID=America/St_Thomas:20150204T120000
DTEND;TZID=America/St_Thomas:20150204T120000
DTSTAMP:20260421T211531
CREATED:20150129T212409Z
LAST-MODIFIED:20150129T212409Z
UID:324-1423051200-1423051200@www.hapennyclub.com
SUMMARY:Lunch
DESCRIPTION:
URL:https://www.hapennyclub.com/event/lunch-10/
END:VEVENT
BEGIN:VEVENT
DTSTART;TZID=America/St_Thomas:20150205T100000
DTEND;TZID=America/St_Thomas:20150205T100000
DTSTAMP:20260421T211531
CREATED:20150129T212439Z
LAST-MODIFIED:20150129T212439Z
UID:325-1423130400-1423130400@www.hapennyclub.com
SUMMARY:Bridge & Games Day
DESCRIPTION:
URL:https://www.hapennyclub.com/event/bridge-games-day-2/
END:VEVENT
BEGIN:VEVENT
DTSTART;TZID=America/St_Thomas:20150205T120000
DTEND;TZID=America/St_Thomas:20150205T120000
DTSTAMP:20260421T211531
CREATED:20150129T212506Z
LAST-MODIFIED:20150129T212506Z
UID:326-1423137600-1423137600@www.hapennyclub.com
SUMMARY:Lunch
DESCRIPTION:
URL:https://www.hapennyclub.com/event/lunch-11/
END:VEVENT
BEGIN:VEVENT
DTSTART;TZID=America/St_Thomas:20150206T090000
DTEND;TZID=America/St_Thomas:20150206T090000
DTSTAMP:20260421T211531
CREATED:20150129T212531Z
LAST-MODIFIED:20150129T212531Z
UID:327-1423213200-1423213200@www.hapennyclub.com
SUMMARY:Yoga
DESCRIPTION:
URL:https://www.hapennyclub.com/event/yoga-21/
END:VEVENT
BEGIN:VEVENT
DTSTART;TZID=America/St_Thomas:20150206T113000
DTEND;TZID=America/St_Thomas:20150206T113000
DTSTAMP:20260421T211531
CREATED:20150129T212608Z
LAST-MODIFIED:20150129T212608Z
UID:328-1423222200-1423222200@www.hapennyclub.com
SUMMARY:Tech Talk
DESCRIPTION:
URL:https://www.hapennyclub.com/event/tech-talk/
END:VEVENT
BEGIN:VEVENT
DTSTART;TZID=America/St_Thomas:20150206T123000
DTEND;TZID=America/St_Thomas:20150206T123000
DTSTAMP:20260421T211531
CREATED:20150129T212639Z
LAST-MODIFIED:20150129T212639Z
UID:329-1423225800-1423225800@www.hapennyclub.com
SUMMARY:Lunch
DESCRIPTION:
URL:https://www.hapennyclub.com/event/lunch-12/
END:VEVENT
BEGIN:VEVENT
DTSTART;TZID=America/St_Thomas:20150207T190000
DTEND;TZID=America/St_Thomas:20150207T190000
DTSTAMP:20260421T211531
CREATED:20150129T212711Z
LAST-MODIFIED:20150129T212711Z
UID:330-1423335600-1423335600@www.hapennyclub.com
SUMMARY:Disco Party - DJ & Dancing
DESCRIPTION:
URL:https://www.hapennyclub.com/event/disco-party-dj-dancing/
END:VEVENT
BEGIN:VEVENT
DTSTART;VALUE=DATE:20150208
DTEND;VALUE=DATE:20150209
DTSTAMP:20260421T211531
CREATED:20150129T212733Z
LAST-MODIFIED:20150129T212733Z
UID:331-1423353600-1423439999@www.hapennyclub.com
SUMMARY:Club Closed
DESCRIPTION:
URL:https://www.hapennyclub.com/event/club-closed-5/
END:VEVENT
BEGIN:VEVENT
DTSTART;TZID=America/St_Thomas:20150211T090000
DTEND;TZID=America/St_Thomas:20150211T090000
DTSTAMP:20260421T211531
CREATED:20150212T190433Z
LAST-MODIFIED:20150212T190433Z
UID:334-1423645200-1423645200@www.hapennyclub.com
SUMMARY:Yoga
DESCRIPTION:
URL:https://www.hapennyclub.com/event/yoga-22/
END:VEVENT
BEGIN:VEVENT
DTSTART;TZID=America/St_Thomas:20150211T100000
DTEND;TZID=America/St_Thomas:20150211T100000
DTSTAMP:20260421T211531
CREATED:20150212T190510Z
LAST-MODIFIED:20150212T190510Z
UID:335-1423648800-1423648800@www.hapennyclub.com
SUMMARY:Sew & Tell
DESCRIPTION:
URL:https://www.hapennyclub.com/event/sew-tell-2/
END:VEVENT
BEGIN:VEVENT
DTSTART;TZID=America/St_Thomas:20150211T120000
DTEND;TZID=America/St_Thomas:20150211T120000
DTSTAMP:20260421T211531
CREATED:20150212T190534Z
LAST-MODIFIED:20150212T190534Z
UID:336-1423656000-1423656000@www.hapennyclub.com
SUMMARY:Lunch
DESCRIPTION:
URL:https://www.hapennyclub.com/event/lunch-13/
END:VEVENT
BEGIN:VEVENT
DTSTART;TZID=America/St_Thomas:20150212T100000
DTEND;TZID=America/St_Thomas:20150212T100000
DTSTAMP:20260421T211531
CREATED:20150212T190612Z
LAST-MODIFIED:20150212T190612Z
UID:337-1423735200-1423735200@www.hapennyclub.com
SUMMARY:Bridge & Games Day
DESCRIPTION:
URL:https://www.hapennyclub.com/event/bridge-games-day-3/
END:VEVENT
BEGIN:VEVENT
DTSTART;TZID=America/St_Thomas:20150212T120000
DTEND;TZID=America/St_Thomas:20150212T120000
DTSTAMP:20260421T211531
CREATED:20150212T190638Z
LAST-MODIFIED:20150212T190638Z
UID:338-1423742400-1423742400@www.hapennyclub.com
SUMMARY:Lunch
DESCRIPTION:
URL:https://www.hapennyclub.com/event/lunch-14/
END:VEVENT
BEGIN:VEVENT
DTSTART;TZID=America/St_Thomas:20150213T090000
DTEND;TZID=America/St_Thomas:20150213T090000
DTSTAMP:20260421T211531
CREATED:20150212T190706Z
LAST-MODIFIED:20150212T190706Z
UID:339-1423818000-1423818000@www.hapennyclub.com
SUMMARY:Yoga
DESCRIPTION:
URL:https://www.hapennyclub.com/event/yoga-23/
END:VEVENT
END:VCALENDAR