BEGIN:VCALENDAR
VERSION:2.0
PRODID:-//Ha&#039;Penny Bay Beach Club - ECPv6.15.20//NONSGML v1.0//EN
CALSCALE:GREGORIAN
METHOD:PUBLISH
X-WR-CALNAME:Ha&#039;Penny Bay Beach Club
X-ORIGINAL-URL:https://www.hapennyclub.com
X-WR-CALDESC:Events for Ha&#039;Penny Bay Beach Club
REFRESH-INTERVAL;VALUE=DURATION:PT1H
X-Robots-Tag:noindex
X-PUBLISHED-TTL:PT1H
BEGIN:VTIMEZONE
TZID:America/St_Thomas
BEGIN:STANDARD
TZOFFSETFROM:-0400
TZOFFSETTO:-0400
TZNAME:AST
DTSTART:20130101T000000
END:STANDARD
END:VTIMEZONE
BEGIN:VEVENT
DTSTART;TZID=America/St_Thomas:20141219T090000
DTEND;TZID=America/St_Thomas:20141219T090000
DTSTAMP:20260421T174804
CREATED:20141216T212750Z
LAST-MODIFIED:20141216T212750Z
UID:279-1418979600-1418979600@www.hapennyclub.com
SUMMARY:Yoga
DESCRIPTION:
URL:https://www.hapennyclub.com/event/yoga-11/
END:VEVENT
BEGIN:VEVENT
DTSTART;TZID=America/St_Thomas:20141221T173000
DTEND;TZID=America/St_Thomas:20141221T173000
DTSTAMP:20260421T174804
CREATED:20141216T212933Z
LAST-MODIFIED:20141216T212933Z
UID:280-1419183000-1419183000@www.hapennyclub.com
SUMMARY:Sunday BBQ Night
DESCRIPTION:Grape Salad\, Pesto Tossed Green Bean Salad\, Three Cheese Potato Casserole\, Wahoo encrusted in parmesan and roasted garlic\, Pork Tenderloin grilled and served with fruit chutney\, Ambrosia.
URL:https://www.hapennyclub.com/event/sunday-bbq-night/
END:VEVENT
BEGIN:VEVENT
DTSTART;TZID=America/St_Thomas:20141224T090000
DTEND;TZID=America/St_Thomas:20141224T090000
DTSTAMP:20260421T174804
CREATED:20141216T213015Z
LAST-MODIFIED:20141216T213015Z
UID:281-1419411600-1419411600@www.hapennyclub.com
SUMMARY:Yoga
DESCRIPTION:
URL:https://www.hapennyclub.com/event/yoga-12/
END:VEVENT
BEGIN:VEVENT
DTSTART;TZID=America/St_Thomas:20141226T090000
DTEND;TZID=America/St_Thomas:20141226T090000
DTSTAMP:20260421T174804
CREATED:20141216T213041Z
LAST-MODIFIED:20141216T213041Z
UID:282-1419584400-1419584400@www.hapennyclub.com
SUMMARY:Yoga
DESCRIPTION:
URL:https://www.hapennyclub.com/event/yoga-13/
END:VEVENT
BEGIN:VEVENT
DTSTART;TZID=America/St_Thomas:20141230T183000
DTEND;TZID=America/St_Thomas:20141230T183000
DTSTAMP:20260421T174804
CREATED:20141216T213233Z
LAST-MODIFIED:20141216T213257Z
UID:283-1419964200-1419964200@www.hapennyclub.com
SUMMARY:New Year's Dinner (Regular Tuesday Price - Black Tie Optional)
DESCRIPTION:Manhattan Clam Chowder\, Dijon Crusted Rack of Lamb over whipped cauliflower\, rosemary roasted pearl onions and carrots with a Cruzan black strap reduction\, Chocolate Torte with berries and cream.
URL:https://www.hapennyclub.com/event/new-years-dinner-regular-tuesday-price/
END:VEVENT
BEGIN:VEVENT
DTSTART;TZID=America/St_Thomas:20141231T090000
DTEND;TZID=America/St_Thomas:20141231T090000
DTSTAMP:20260421T174804
CREATED:20141216T213323Z
LAST-MODIFIED:20141216T213323Z
UID:284-1420016400-1420016400@www.hapennyclub.com
SUMMARY:Yoga
DESCRIPTION:
URL:https://www.hapennyclub.com/event/yoga-14/
END:VEVENT
BEGIN:VEVENT
DTSTART;TZID=America/St_Thomas:20150101T110000
DTEND;TZID=America/St_Thomas:20150101T110000
DTSTAMP:20260421T174804
CREATED:20150102T011324Z
LAST-MODIFIED:20150102T011324Z
UID:289-1420110000-1420110000@www.hapennyclub.com
SUMMARY:New Year's Brunch
DESCRIPTION:
URL:https://www.hapennyclub.com/event/new-years-brunch/
END:VEVENT
BEGIN:VEVENT
DTSTART;TZID=America/St_Thomas:20150102T090000
DTEND;TZID=America/St_Thomas:20150102T090000
DTSTAMP:20260421T174804
CREATED:20150102T011358Z
LAST-MODIFIED:20150102T011358Z
UID:290-1420189200-1420189200@www.hapennyclub.com
SUMMARY:Yoga
DESCRIPTION:
URL:https://www.hapennyclub.com/event/yoga-15/
END:VEVENT
BEGIN:VEVENT
DTSTART;TZID=America/St_Thomas:20150104T173000
DTEND;TZID=America/St_Thomas:20150104T173000
DTSTAMP:20260421T174804
CREATED:20150102T011529Z
LAST-MODIFIED:20150102T011529Z
UID:291-1420392600-1420392600@www.hapennyclub.com
SUMMARY:Casual Dining
DESCRIPTION:Wedge Salad\, Stuffed Chicken Breasts\, Shrimp Scamp\, Cake and Ice Cream
URL:https://www.hapennyclub.com/event/casual-dining/
END:VEVENT
BEGIN:VEVENT
DTSTART;TZID=America/St_Thomas:20150106T183000
DTEND;TZID=America/St_Thomas:20150106T183000
DTSTAMP:20260421T174804
CREATED:20150102T011627Z
LAST-MODIFIED:20150102T011628Z
UID:292-1420569000-1420569000@www.hapennyclub.com
SUMMARY:Tuesday Dinner
DESCRIPTION:Bibb Lettuce Salad\, Pan Seared Wahoo\, Berry Lemon Cheesecake
URL:https://www.hapennyclub.com/event/tuesday-dinner/
END:VEVENT
BEGIN:VEVENT
DTSTART;TZID=America/St_Thomas:20150107T090000
DTEND;TZID=America/St_Thomas:20150107T090000
DTSTAMP:20260421T174804
CREATED:20150102T011702Z
LAST-MODIFIED:20150102T011702Z
UID:293-1420621200-1420621200@www.hapennyclub.com
SUMMARY:Yoga
DESCRIPTION:
URL:https://www.hapennyclub.com/event/yoga-16/
END:VEVENT
BEGIN:VEVENT
DTSTART;TZID=America/St_Thomas:20150107T100000
DTEND;TZID=America/St_Thomas:20150107T100000
DTSTAMP:20260421T174804
CREATED:20141106T005126Z
LAST-MODIFIED:20141106T005126Z
UID:197-1420624800-1420624800@www.hapennyclub.com
SUMMARY:Sew and Tell
DESCRIPTION:
URL:https://www.hapennyclub.com/event/sew-and-tell/
END:VEVENT
BEGIN:VEVENT
DTSTART;TZID=America/St_Thomas:20150107T120000
DTEND;TZID=America/St_Thomas:20150107T120000
DTSTAMP:20260421T174804
CREATED:20150102T011759Z
LAST-MODIFIED:20150102T011759Z
UID:295-1420632000-1420632000@www.hapennyclub.com
SUMMARY:Lunch
DESCRIPTION:
URL:https://www.hapennyclub.com/event/lunch-4/
END:VEVENT
BEGIN:VEVENT
DTSTART;TZID=America/St_Thomas:20150108T100000
DTEND;TZID=America/St_Thomas:20150108T100000
DTSTAMP:20260421T174804
CREATED:20150102T011856Z
LAST-MODIFIED:20150102T011856Z
UID:296-1420711200-1420711200@www.hapennyclub.com
SUMMARY:Games Day: Bridge\, Mahjong\, Cribbage
DESCRIPTION:
URL:https://www.hapennyclub.com/event/games-day-bridge-mahjong-cribbage/
END:VEVENT
BEGIN:VEVENT
DTSTART;TZID=America/St_Thomas:20150108T120000
DTEND;TZID=America/St_Thomas:20150108T120000
DTSTAMP:20260421T174804
CREATED:20150102T011922Z
LAST-MODIFIED:20150102T011922Z
UID:297-1420718400-1420718400@www.hapennyclub.com
SUMMARY:Lunch
DESCRIPTION:
URL:https://www.hapennyclub.com/event/lunch-5/
END:VEVENT
BEGIN:VEVENT
DTSTART;TZID=America/St_Thomas:20150109T090000
DTEND;TZID=America/St_Thomas:20150109T090000
DTSTAMP:20260421T174804
CREATED:20150102T011952Z
LAST-MODIFIED:20150102T011952Z
UID:298-1420794000-1420794000@www.hapennyclub.com
SUMMARY:Yoga
DESCRIPTION:
URL:https://www.hapennyclub.com/event/yoga-17/
END:VEVENT
BEGIN:VEVENT
DTSTART;TZID=America/St_Thomas:20150111T173000
DTEND;TZID=America/St_Thomas:20150111T173000
DTSTAMP:20260421T174804
CREATED:20150102T012630Z
LAST-MODIFIED:20150108T193714Z
UID:305-1420997400-1420997400@www.hapennyclub.com
SUMMARY:Casual Dining - Movie Night
DESCRIPTION:Movie: Midnight in Paris – French Dinner – Chicken a la Diable\, Tomato Provencal\, Rice Pilaf\, Chocolate Mousse
URL:https://www.hapennyclub.com/event/casual-dining-movie-night/
END:VEVENT
BEGIN:VEVENT
DTSTART;TZID=America/St_Thomas:20150114T090000
DTEND;TZID=America/St_Thomas:20150114T090000
DTSTAMP:20260421T174804
CREATED:20150118T012337Z
LAST-MODIFIED:20150118T012337Z
UID:308-1421226000-1421226000@www.hapennyclub.com
SUMMARY:Yoga
DESCRIPTION:
URL:https://www.hapennyclub.com/event/yoga-18/
END:VEVENT
BEGIN:VEVENT
DTSTART;TZID=America/St_Thomas:20150114T100000
DTEND;TZID=America/St_Thomas:20150114T100000
DTSTAMP:20260421T174804
CREATED:20150118T012419Z
LAST-MODIFIED:20150118T012419Z
UID:309-1421229600-1421229600@www.hapennyclub.com
SUMMARY:Sew & Tell
DESCRIPTION:
URL:https://www.hapennyclub.com/event/sew-tell/
END:VEVENT
BEGIN:VEVENT
DTSTART;TZID=America/St_Thomas:20150114T120000
DTEND;TZID=America/St_Thomas:20150114T120000
DTSTAMP:20260421T174804
CREATED:20150118T012458Z
LAST-MODIFIED:20150118T012458Z
UID:310-1421236800-1421236800@www.hapennyclub.com
SUMMARY:Lunch
DESCRIPTION:
URL:https://www.hapennyclub.com/event/lunch-7/
END:VEVENT
BEGIN:VEVENT
DTSTART;TZID=America/St_Thomas:20150115T100000
DTEND;TZID=America/St_Thomas:20150115T100000
DTSTAMP:20260421T174804
CREATED:20150118T012532Z
LAST-MODIFIED:20150118T012532Z
UID:311-1421316000-1421316000@www.hapennyclub.com
SUMMARY:Bridge & Games
DESCRIPTION:
URL:https://www.hapennyclub.com/event/bridge-games/
END:VEVENT
BEGIN:VEVENT
DTSTART;TZID=America/St_Thomas:20150115T120000
DTEND;TZID=America/St_Thomas:20150115T120000
DTSTAMP:20260421T174804
CREATED:20150118T012559Z
LAST-MODIFIED:20150118T012559Z
UID:312-1421323200-1421323200@www.hapennyclub.com
SUMMARY:Lunch
DESCRIPTION:
URL:https://www.hapennyclub.com/event/lunch-8/
END:VEVENT
BEGIN:VEVENT
DTSTART;TZID=America/St_Thomas:20150115T143000
DTEND;TZID=America/St_Thomas:20150115T143000
DTSTAMP:20260421T174804
CREATED:20141106T005226Z
LAST-MODIFIED:20141106T005525Z
UID:198-1421332200-1421332200@www.hapennyclub.com
SUMMARY:Book Club
DESCRIPTION:Lunch at noon.
URL:https://www.hapennyclub.com/event/book-club/
END:VEVENT
BEGIN:VEVENT
DTSTART;TZID=America/St_Thomas:20150117T190000
DTEND;TZID=America/St_Thomas:20150117T190000
DTSTAMP:20260421T174804
CREATED:20150102T012251Z
LAST-MODIFIED:20150102T012251Z
UID:299-1421521200-1421521200@www.hapennyclub.com
SUMMARY:Booze\, Boots & Barbecue Dance Party
DESCRIPTION:
URL:https://www.hapennyclub.com/event/booze-boots-barbecue-dance-party/
END:VEVENT
BEGIN:VEVENT
DTSTART;VALUE=DATE:20150118
DTEND;VALUE=DATE:20150119
DTSTAMP:20260421T174804
CREATED:20150102T012431Z
LAST-MODIFIED:20150102T012431Z
UID:302-1421539200-1421625599@www.hapennyclub.com
SUMMARY:Club Closed
DESCRIPTION:
URL:https://www.hapennyclub.com/event/club-closed-4/
END:VEVENT
BEGIN:VEVENT
DTSTART;TZID=America/St_Thomas:20150120T183000
DTEND;TZID=America/St_Thomas:20150120T183000
DTSTAMP:20260421T174804
CREATED:20150118T012833Z
LAST-MODIFIED:20150118T012833Z
UID:314-1421778600-1421778600@www.hapennyclub.com
SUMMARY:Italian Steak Night
DESCRIPTION:Caprese Salad\, Herbed Filet Mignon\, Orecchiette in Cream Sauce\, Roasted Asparagus\, Zabaglione
URL:https://www.hapennyclub.com/event/italian-steak-night/
END:VEVENT
BEGIN:VEVENT
DTSTART;TZID=America/St_Thomas:20150121T130000
DTEND;TZID=America/St_Thomas:20150121T130000
DTSTAMP:20260421T174804
CREATED:20141106T005326Z
LAST-MODIFIED:20141106T005448Z
UID:199-1421845200-1421845200@www.hapennyclub.com
SUMMARY:Book Review
DESCRIPTION:Lunch at noon.
URL:https://www.hapennyclub.com/event/book-review/
END:VEVENT
BEGIN:VEVENT
DTSTART;TZID=America/St_Thomas:20150124T103000
DTEND;TZID=America/St_Thomas:20150124T103000
DTSTAMP:20260421T174804
CREATED:20150102T012333Z
LAST-MODIFIED:20150102T012333Z
UID:300-1422095400-1422095400@www.hapennyclub.com
SUMMARY:Annual Meeting
DESCRIPTION:
URL:https://www.hapennyclub.com/event/annual-meeting/
END:VEVENT
BEGIN:VEVENT
DTSTART;TZID=America/St_Thomas:20150124T120000
DTEND;TZID=America/St_Thomas:20150124T120000
DTSTAMP:20260421T174804
CREATED:20150102T012402Z
LAST-MODIFIED:20150102T012402Z
UID:301-1422100800-1422100800@www.hapennyclub.com
SUMMARY:Lunch
DESCRIPTION:
URL:https://www.hapennyclub.com/event/lunch-6/
END:VEVENT
BEGIN:VEVENT
DTSTART;TZID=America/St_Thomas:20150125T090000
DTEND;TZID=America/St_Thomas:20150125T090000
DTSTAMP:20260421T174804
CREATED:20150102T012509Z
LAST-MODIFIED:20150102T012509Z
UID:303-1422176400-1422176400@www.hapennyclub.com
SUMMARY:Tennis Tournament
DESCRIPTION:
URL:https://www.hapennyclub.com/event/tennis-tournament/
END:VEVENT
END:VCALENDAR