BEGIN:VCALENDAR
VERSION:2.0
PRODID:-//Ha&#039;Penny Bay Beach Club - ECPv6.15.20//NONSGML v1.0//EN
CALSCALE:GREGORIAN
METHOD:PUBLISH
X-WR-CALNAME:Ha&#039;Penny Bay Beach Club
X-ORIGINAL-URL:https://www.hapennyclub.com
X-WR-CALDESC:Events for Ha&#039;Penny Bay Beach Club
REFRESH-INTERVAL;VALUE=DURATION:PT1H
X-Robots-Tag:noindex
X-PUBLISHED-TTL:PT1H
BEGIN:VTIMEZONE
TZID:America/St_Thomas
BEGIN:STANDARD
TZOFFSETFROM:-0400
TZOFFSETTO:-0400
TZNAME:AST
DTSTART:20140101T000000
END:STANDARD
END:VTIMEZONE
BEGIN:VTIMEZONE
TZID:America/New_York
BEGIN:DAYLIGHT
TZOFFSETFROM:-0500
TZOFFSETTO:-0400
TZNAME:EDT
DTSTART:20190310T070000
END:DAYLIGHT
BEGIN:STANDARD
TZOFFSETFROM:-0400
TZOFFSETTO:-0500
TZNAME:EST
DTSTART:20191103T060000
END:STANDARD
BEGIN:DAYLIGHT
TZOFFSETFROM:-0500
TZOFFSETTO:-0400
TZNAME:EDT
DTSTART:20200308T070000
END:DAYLIGHT
BEGIN:STANDARD
TZOFFSETFROM:-0400
TZOFFSETTO:-0500
TZNAME:EST
DTSTART:20201101T060000
END:STANDARD
BEGIN:DAYLIGHT
TZOFFSETFROM:-0500
TZOFFSETTO:-0400
TZNAME:EDT
DTSTART:20210314T070000
END:DAYLIGHT
BEGIN:STANDARD
TZOFFSETFROM:-0400
TZOFFSETTO:-0500
TZNAME:EST
DTSTART:20211107T060000
END:STANDARD
END:VTIMEZONE
BEGIN:VEVENT
DTSTART;TZID=America/St_Thomas:20150318T090000
DTEND;TZID=America/St_Thomas:20150318T090000
DTSTAMP:20260421T114806
CREATED:20150316T184202Z
LAST-MODIFIED:20150316T184202Z
UID:386-1426669200-1426669200@www.hapennyclub.com
SUMMARY:Yoga
DESCRIPTION:
URL:https://www.hapennyclub.com/event/yoga-32/
END:VEVENT
BEGIN:VEVENT
DTSTART;TZID=America/St_Thomas:20150318T100000
DTEND;TZID=America/St_Thomas:20150318T100000
DTSTAMP:20260421T114806
CREATED:20150316T184236Z
LAST-MODIFIED:20150316T184236Z
UID:387-1426672800-1426672800@www.hapennyclub.com
SUMMARY:Sew & Tell
DESCRIPTION:
URL:https://www.hapennyclub.com/event/sew-tell-5/
END:VEVENT
BEGIN:VEVENT
DTSTART;TZID=America/St_Thomas:20150318T120000
DTEND;TZID=America/St_Thomas:20150318T120000
DTSTAMP:20260421T114806
CREATED:20150316T184303Z
LAST-MODIFIED:20150316T184303Z
UID:388-1426680000-1426680000@www.hapennyclub.com
SUMMARY:Lunch
DESCRIPTION:
URL:https://www.hapennyclub.com/event/lunch-23/
END:VEVENT
BEGIN:VEVENT
DTSTART;TZID=America/St_Thomas:20150319T100000
DTEND;TZID=America/St_Thomas:20150319T100000
DTSTAMP:20260421T114806
CREATED:20150316T184335Z
LAST-MODIFIED:20150316T184335Z
UID:389-1426759200-1426759200@www.hapennyclub.com
SUMMARY:Bridge & Games Day
DESCRIPTION:
URL:https://www.hapennyclub.com/event/bridge-games-day-6/
END:VEVENT
BEGIN:VEVENT
DTSTART;TZID=America/St_Thomas:20150319T120000
DTEND;TZID=America/St_Thomas:20150319T120000
DTSTAMP:20260421T114806
CREATED:20150316T184401Z
LAST-MODIFIED:20150316T184401Z
UID:390-1426766400-1426766400@www.hapennyclub.com
SUMMARY:Lunch
DESCRIPTION:
URL:https://www.hapennyclub.com/event/lunch-24/
END:VEVENT
BEGIN:VEVENT
DTSTART;TZID=America/St_Thomas:20150320T090000
DTEND;TZID=America/St_Thomas:20150320T090000
DTSTAMP:20260421T114806
CREATED:20150316T184441Z
LAST-MODIFIED:20150316T184441Z
UID:391-1426842000-1426842000@www.hapennyclub.com
SUMMARY:Yoga
DESCRIPTION:
URL:https://www.hapennyclub.com/event/yoga-33/
END:VEVENT
BEGIN:VEVENT
DTSTART;TZID=America/St_Thomas:20150324T183000
DTEND;TZID=America/St_Thomas:20150324T183000
DTSTAMP:20260421T114806
CREATED:20150317T175440Z
LAST-MODIFIED:20150317T175440Z
UID:393-1427221800-1427221800@www.hapennyclub.com
SUMMARY:Tuesday Night Dinner
DESCRIPTION:
URL:https://www.hapennyclub.com/event/tuesday-night-dinner/
END:VEVENT
BEGIN:VEVENT
DTSTART;TZID=America/St_Thomas:20150325T090000
DTEND;TZID=America/St_Thomas:20150325T090000
DTSTAMP:20260421T114806
CREATED:20150317T175523Z
LAST-MODIFIED:20150317T175523Z
UID:394-1427274000-1427274000@www.hapennyclub.com
SUMMARY:Yoga
DESCRIPTION:
URL:https://www.hapennyclub.com/event/yoga-34/
END:VEVENT
BEGIN:VEVENT
DTSTART;TZID=America/St_Thomas:20150325T100000
DTEND;TZID=America/St_Thomas:20150325T100000
DTSTAMP:20260421T114806
CREATED:20150317T175552Z
LAST-MODIFIED:20150317T175552Z
UID:395-1427277600-1427277600@www.hapennyclub.com
SUMMARY:Sew & Tell
DESCRIPTION:
URL:https://www.hapennyclub.com/event/sew-tell-6/
END:VEVENT
BEGIN:VEVENT
DTSTART;TZID=America/St_Thomas:20150325T120000
DTEND;TZID=America/St_Thomas:20150325T120000
DTSTAMP:20260421T114806
CREATED:20150317T175621Z
LAST-MODIFIED:20150317T175621Z
UID:396-1427284800-1427284800@www.hapennyclub.com
SUMMARY:Lunch
DESCRIPTION:
URL:https://www.hapennyclub.com/event/lunch-25/
END:VEVENT
BEGIN:VEVENT
DTSTART;TZID=America/St_Thomas:20150326T100000
DTEND;TZID=America/St_Thomas:20150326T100000
DTSTAMP:20260421T114806
CREATED:20150317T175659Z
LAST-MODIFIED:20150317T175659Z
UID:397-1427364000-1427364000@www.hapennyclub.com
SUMMARY:Bridge & Games Day
DESCRIPTION:
URL:https://www.hapennyclub.com/event/bridge-games-day-7/
END:VEVENT
BEGIN:VEVENT
DTSTART;TZID=America/St_Thomas:20150326T120000
DTEND;TZID=America/St_Thomas:20150326T120000
DTSTAMP:20260421T114806
CREATED:20150317T175729Z
LAST-MODIFIED:20150317T175729Z
UID:398-1427371200-1427371200@www.hapennyclub.com
SUMMARY:Lunch
DESCRIPTION:
URL:https://www.hapennyclub.com/event/lunch-26/
END:VEVENT
BEGIN:VEVENT
DTSTART;TZID=America/St_Thomas:20150326T143000
DTEND;TZID=America/St_Thomas:20150326T143000
DTSTAMP:20260421T114806
CREATED:20150317T175807Z
LAST-MODIFIED:20150317T175807Z
UID:399-1427380200-1427380200@www.hapennyclub.com
SUMMARY:Book Club
DESCRIPTION:
URL:https://www.hapennyclub.com/event/book-club-4/
END:VEVENT
BEGIN:VEVENT
DTSTART;TZID=America/St_Thomas:20150327T090000
DTEND;TZID=America/St_Thomas:20150327T090000
DTSTAMP:20260421T114806
CREATED:20150317T175837Z
LAST-MODIFIED:20150317T175837Z
UID:400-1427446800-1427446800@www.hapennyclub.com
SUMMARY:Yoga
DESCRIPTION:
URL:https://www.hapennyclub.com/event/yoga-35/
END:VEVENT
BEGIN:VEVENT
DTSTART;TZID=America/St_Thomas:20150329T140000
DTEND;TZID=America/St_Thomas:20150329T140000
DTSTAMP:20260421T114806
CREATED:20150317T175911Z
LAST-MODIFIED:20150317T175911Z
UID:401-1427637600-1427637600@www.hapennyclub.com
SUMMARY:Croquet Tournament
DESCRIPTION:
URL:https://www.hapennyclub.com/event/croquet-tournament/
END:VEVENT
BEGIN:VEVENT
DTSTART;TZID=America/St_Thomas:20150329T173000
DTEND;TZID=America/St_Thomas:20150329T173000
DTSTAMP:20260421T114806
CREATED:20150317T175949Z
LAST-MODIFIED:20150317T175949Z
UID:402-1427650200-1427650200@www.hapennyclub.com
SUMMARY:Casual Dining
DESCRIPTION:
URL:https://www.hapennyclub.com/event/casual-dining-3/
END:VEVENT
BEGIN:VEVENT
DTSTART;TZID=America/St_Thomas:20150331T183000
DTEND;TZID=America/St_Thomas:20150331T183000
DTSTAMP:20260421T114806
CREATED:20150317T180034Z
LAST-MODIFIED:20150317T180034Z
UID:403-1427826600-1427826600@www.hapennyclub.com
SUMMARY:Tuesday Night Dinner
DESCRIPTION:
URL:https://www.hapennyclub.com/event/tuesday-night-dinner-2/
END:VEVENT
BEGIN:VEVENT
DTSTART;TZID=America/New_York:20200616T180000
DTEND;TZID=America/New_York:20200616T200000
DTSTAMP:20260421T114806
CREATED:20200614T212022Z
LAST-MODIFIED:20200614T212022Z
UID:2787-1592330400-1592337600@www.hapennyclub.com
SUMMARY:Tuesday Dinner 6/16/20
DESCRIPTION:Are you just about to step in the hot kitchen to cook dinner tonight? Tired of answering the question\, what should we have for dinner? Well\, next Tuesday\, Ha’Penny can answer those questions as Loni is serving up an awesome menu. Come dine in our spacious open air dining room and catch up with members you have not seen for a while. Remember summer dining is casual and the men can wear shorts with collared shirts. Don’t delay sign up today with Susie for next Tuesday\, July 16th. \nMenu\nAppetizer\nNew England Clam Chowder\nMain Course\nHoisin grilled London Broil\nLoaded Baked Potatoes\nRoasted Broccoli and carrots\nDessert\nChocolate Mousse \nDon’t forget it is BYOB for wine only with a corkage fee……
URL:https://www.hapennyclub.com/event/tuesday-dinner-6-16-20/
LOCATION:Ha’Penny Bay Beach Club
CATEGORIES:Dinner
ORGANIZER;CN="Susie":MAILTO:ssheehanstx@gmail.com
END:VEVENT
BEGIN:VEVENT
DTSTART;TZID=America/New_York:20200626T180000
DTEND;TZID=America/New_York:20200626T190000
DTSTAMP:20260421T114806
CREATED:20200614T212628Z
LAST-MODIFIED:20200623T125501Z
UID:2791-1593194400-1593198000@www.hapennyclub.com
SUMMARY:Sample Event
DESCRIPTION:This is to show you what it will look like when there is an event posted.
URL:https://www.hapennyclub.com/event/virtual-jazz-in-the-park/
LOCATION:Ha’Penny Bay Beach Club
CATEGORIES:Special Events
END:VEVENT
END:VCALENDAR