BEGIN:VCALENDAR
VERSION:2.0
PRODID:-//Ha&#039;Penny Bay Beach Club - ECPv6.15.20//NONSGML v1.0//EN
CALSCALE:GREGORIAN
METHOD:PUBLISH
X-ORIGINAL-URL:https://www.hapennyclub.com
X-WR-CALDESC:Events for Ha&#039;Penny Bay Beach Club
REFRESH-INTERVAL;VALUE=DURATION:PT1H
X-Robots-Tag:noindex
X-PUBLISHED-TTL:PT1H
BEGIN:VTIMEZONE
TZID:America/St_Thomas
BEGIN:STANDARD
TZOFFSETFROM:-0400
TZOFFSETTO:-0400
TZNAME:AST
DTSTART:20140101T000000
END:STANDARD
END:VTIMEZONE
BEGIN:VEVENT
DTSTART;TZID=America/St_Thomas:20150310T183000
DTEND;TZID=America/St_Thomas:20150310T183000
DTSTAMP:20260421T085253
CREATED:20150226T233205Z
LAST-MODIFIED:20150226T233205Z
UID:368-1426012200-1426012200@www.hapennyclub.com
SUMMARY:Tuesday Dinner
DESCRIPTION:
URL:https://www.hapennyclub.com/event/tuesday-dinner-5/
END:VEVENT
END:VCALENDAR