BEGIN:VCALENDAR
VERSION:2.0
PRODID:-//Ha&#039;Penny Bay Beach Club - ECPv6.15.20//NONSGML v1.0//EN
CALSCALE:GREGORIAN
METHOD:PUBLISH
X-WR-CALNAME:Ha&#039;Penny Bay Beach Club
X-ORIGINAL-URL:https://www.hapennyclub.com
X-WR-CALDESC:Events for Ha&#039;Penny Bay Beach Club
REFRESH-INTERVAL;VALUE=DURATION:PT1H
X-Robots-Tag:noindex
X-PUBLISHED-TTL:PT1H
BEGIN:VTIMEZONE
TZID:America/St_Thomas
BEGIN:STANDARD
TZOFFSETFROM:-0400
TZOFFSETTO:-0400
TZNAME:AST
DTSTART:20140101T000000
END:STANDARD
END:VTIMEZONE
BEGIN:VEVENT
DTSTART;TZID=America/St_Thomas:20150222T173000
DTEND;TZID=America/St_Thomas:20150222T173000
DTSTAMP:20260421T071407
CREATED:20150212T191817Z
LAST-MODIFIED:20150212T191954Z
UID:347-1424626200-1424626200@www.hapennyclub.com
SUMMARY:Golf Tournament Awards & Casual Dining
DESCRIPTION:
URL:https://www.hapennyclub.com/event/gold-tournament-awards-casual-dining/
END:VEVENT
END:VCALENDAR