BEGIN:VCALENDAR
VERSION:2.0
PRODID:-//Ha&#039;Penny Bay Beach Club - ECPv6.15.20//NONSGML v1.0//EN
CALSCALE:GREGORIAN
METHOD:PUBLISH
X-WR-CALNAME:Ha&#039;Penny Bay Beach Club
X-ORIGINAL-URL:https://www.hapennyclub.com
X-WR-CALDESC:Events for Ha&#039;Penny Bay Beach Club
REFRESH-INTERVAL;VALUE=DURATION:PT1H
X-Robots-Tag:noindex
X-PUBLISHED-TTL:PT1H
BEGIN:VTIMEZONE
TZID:America/St_Thomas
BEGIN:STANDARD
TZOFFSETFROM:-0400
TZOFFSETTO:-0400
TZNAME:AST
DTSTART:20140101T000000
END:STANDARD
END:VTIMEZONE
BEGIN:VEVENT
DTSTART;TZID=America/St_Thomas:20150219T100000
DTEND;TZID=America/St_Thomas:20150219T100000
DTSTAMP:20260421T071327
CREATED:20150212T191616Z
LAST-MODIFIED:20150212T191616Z
UID:344-1424340000-1424340000@www.hapennyclub.com
SUMMARY:Bridge & Games Day
DESCRIPTION:
URL:https://www.hapennyclub.com/event/bridge-games-day-4/
END:VEVENT
BEGIN:VEVENT
DTSTART;TZID=America/St_Thomas:20150219T120000
DTEND;TZID=America/St_Thomas:20150219T120000
DTSTAMP:20260421T071327
CREATED:20150212T191652Z
LAST-MODIFIED:20150212T191652Z
UID:345-1424347200-1424347200@www.hapennyclub.com
SUMMARY:Lunch
DESCRIPTION:
URL:https://www.hapennyclub.com/event/lunch-16/
END:VEVENT
END:VCALENDAR