BEGIN:VCALENDAR
VERSION:2.0
PRODID:-//Ha&#039;Penny Bay Beach Club - ECPv6.15.20//NONSGML v1.0//EN
CALSCALE:GREGORIAN
METHOD:PUBLISH
X-ORIGINAL-URL:https://www.hapennyclub.com
X-WR-CALDESC:Events for Ha&#039;Penny Bay Beach Club
REFRESH-INTERVAL;VALUE=DURATION:PT1H
X-Robots-Tag:noindex
X-PUBLISHED-TTL:PT1H
BEGIN:VTIMEZONE
TZID:America/St_Thomas
BEGIN:STANDARD
TZOFFSETFROM:-0400
TZOFFSETTO:-0400
TZNAME:AST
DTSTART:20140101T000000
END:STANDARD
END:VTIMEZONE
BEGIN:VEVENT
DTSTART;TZID=America/St_Thomas:20150218T090000
DTEND;TZID=America/St_Thomas:20150218T090000
DTSTAMP:20260421T071552
CREATED:20150212T191456Z
LAST-MODIFIED:20150212T191456Z
UID:341-1424250000-1424250000@www.hapennyclub.com
SUMMARY:Yoga
DESCRIPTION:
URL:https://www.hapennyclub.com/event/yoga-24/
END:VEVENT
BEGIN:VEVENT
DTSTART;TZID=America/St_Thomas:20150218T100000
DTEND;TZID=America/St_Thomas:20150218T100000
DTSTAMP:20260421T071552
CREATED:20150212T191522Z
LAST-MODIFIED:20150212T191522Z
UID:342-1424253600-1424253600@www.hapennyclub.com
SUMMARY:Sew & Tell
DESCRIPTION:
URL:https://www.hapennyclub.com/event/sew-tell-3/
END:VEVENT
BEGIN:VEVENT
DTSTART;TZID=America/St_Thomas:20150218T120000
DTEND;TZID=America/St_Thomas:20150218T120000
DTSTAMP:20260421T071552
CREATED:20150212T191547Z
LAST-MODIFIED:20150212T191547Z
UID:343-1424260800-1424260800@www.hapennyclub.com
SUMMARY:Lunch
DESCRIPTION:
URL:https://www.hapennyclub.com/event/lunch-15/
END:VEVENT
BEGIN:VEVENT
DTSTART;TZID=America/St_Thomas:20150218T130000
DTEND;TZID=America/St_Thomas:20150218T130000
DTSTAMP:20260421T071552
CREATED:20150216T173859Z
LAST-MODIFIED:20150216T173859Z
UID:350-1424264400-1424264400@www.hapennyclub.com
SUMMARY:Book Review
DESCRIPTION:
URL:https://www.hapennyclub.com/event/book-review-2/
END:VEVENT
END:VCALENDAR