BEGIN:VCALENDAR
VERSION:2.0
PRODID:-//Ha&#039;Penny Bay Beach Club - ECPv6.15.20//NONSGML v1.0//EN
CALSCALE:GREGORIAN
METHOD:PUBLISH
X-ORIGINAL-URL:https://www.hapennyclub.com
X-WR-CALDESC:Events for Ha&#039;Penny Bay Beach Club
REFRESH-INTERVAL;VALUE=DURATION:PT1H
X-Robots-Tag:noindex
X-PUBLISHED-TTL:PT1H
BEGIN:VTIMEZONE
TZID:America/St_Thomas
BEGIN:STANDARD
TZOFFSETFROM:-0400
TZOFFSETTO:-0400
TZNAME:AST
DTSTART:20140101T000000
END:STANDARD
END:VTIMEZONE
BEGIN:VEVENT
DTSTART;TZID=America/St_Thomas:20150129T100000
DTEND;TZID=America/St_Thomas:20150129T100000
DTSTAMP:20260421T070420
CREATED:20150129T211930Z
LAST-MODIFIED:20150129T211930Z
UID:317-1422525600-1422525600@www.hapennyclub.com
SUMMARY:Bridge & Games Day
DESCRIPTION:
URL:https://www.hapennyclub.com/event/bridge-games-day/
END:VEVENT
BEGIN:VEVENT
DTSTART;TZID=America/St_Thomas:20150129T120000
DTEND;TZID=America/St_Thomas:20150129T120000
DTSTAMP:20260421T070420
CREATED:20150129T212001Z
LAST-MODIFIED:20150129T212001Z
UID:318-1422532800-1422532800@www.hapennyclub.com
SUMMARY:Lunch
DESCRIPTION:
URL:https://www.hapennyclub.com/event/lunch-9/
END:VEVENT
END:VCALENDAR