BEGIN:VCALENDAR
VERSION:2.0
PRODID:-//Ha&#039;Penny Bay Beach Club - ECPv6.15.20//NONSGML v1.0//EN
CALSCALE:GREGORIAN
METHOD:PUBLISH
X-ORIGINAL-URL:https://www.hapennyclub.com
X-WR-CALDESC:Events for Ha&#039;Penny Bay Beach Club
REFRESH-INTERVAL;VALUE=DURATION:PT1H
X-Robots-Tag:noindex
X-PUBLISHED-TTL:PT1H
BEGIN:VTIMEZONE
TZID:America/St_Thomas
BEGIN:STANDARD
TZOFFSETFROM:-0400
TZOFFSETTO:-0400
TZNAME:AST
DTSTART:20130101T000000
END:STANDARD
END:VTIMEZONE
BEGIN:VEVENT
DTSTART;TZID=America/St_Thomas:20141230T183000
DTEND;TZID=America/St_Thomas:20141230T183000
DTSTAMP:20260421T083828
CREATED:20141216T213233Z
LAST-MODIFIED:20141216T213257Z
UID:283-1419964200-1419964200@www.hapennyclub.com
SUMMARY:New Year's Dinner (Regular Tuesday Price - Black Tie Optional)
DESCRIPTION:Manhattan Clam Chowder\, Dijon Crusted Rack of Lamb over whipped cauliflower\, rosemary roasted pearl onions and carrots with a Cruzan black strap reduction\, Chocolate Torte with berries and cream.
URL:https://www.hapennyclub.com/event/new-years-dinner-regular-tuesday-price/
END:VEVENT
END:VCALENDAR