BEGIN:VCALENDAR
VERSION:2.0
PRODID:-//Ha&#039;Penny Bay Beach Club - ECPv6.15.20//NONSGML v1.0//EN
CALSCALE:GREGORIAN
METHOD:PUBLISH
X-ORIGINAL-URL:https://www.hapennyclub.com
X-WR-CALDESC:Events for Ha&#039;Penny Bay Beach Club
REFRESH-INTERVAL;VALUE=DURATION:PT1H
X-Robots-Tag:noindex
X-PUBLISHED-TTL:PT1H
BEGIN:VTIMEZONE
TZID:America/St_Thomas
BEGIN:STANDARD
TZOFFSETFROM:-0400
TZOFFSETTO:-0400
TZNAME:AST
DTSTART:20130101T000000
END:STANDARD
END:VTIMEZONE
BEGIN:VEVENT
DTSTART;TZID=America/St_Thomas:20141221T173000
DTEND;TZID=America/St_Thomas:20141221T173000
DTSTAMP:20260421T101815
CREATED:20141216T212933Z
LAST-MODIFIED:20141216T212933Z
UID:280-1419183000-1419183000@www.hapennyclub.com
SUMMARY:Sunday BBQ Night
DESCRIPTION:Grape Salad\, Pesto Tossed Green Bean Salad\, Three Cheese Potato Casserole\, Wahoo encrusted in parmesan and roasted garlic\, Pork Tenderloin grilled and served with fruit chutney\, Ambrosia.
URL:https://www.hapennyclub.com/event/sunday-bbq-night/
END:VEVENT
END:VCALENDAR