BEGIN:VCALENDAR
VERSION:2.0
PRODID:-//Ha&#039;Penny Bay Beach Club - ECPv6.15.20//NONSGML v1.0//EN
CALSCALE:GREGORIAN
METHOD:PUBLISH
X-ORIGINAL-URL:https://www.hapennyclub.com
X-WR-CALDESC:Events for Ha&#039;Penny Bay Beach Club
REFRESH-INTERVAL;VALUE=DURATION:PT1H
X-Robots-Tag:noindex
X-PUBLISHED-TTL:PT1H
BEGIN:VTIMEZONE
TZID:America/St_Thomas
BEGIN:STANDARD
TZOFFSETFROM:-0400
TZOFFSETTO:-0400
TZNAME:AST
DTSTART:20130101T000000
END:STANDARD
END:VTIMEZONE
BEGIN:VEVENT
DTSTART;TZID=America/St_Thomas:20141115T190000
DTEND;TZID=America/St_Thomas:20141115T190000
DTSTAMP:20260421T113523
CREATED:20141105T222954Z
LAST-MODIFIED:20141105T230127Z
UID:185-1416078000-1416078000@www.hapennyclub.com
SUMMARY:50's & 60's DJ Dinner Dance
DESCRIPTION:Reservation Deadline is Thursday\, Nov 13\, 9pm. \nAmerican Bandstand 50’s and 60’s Sock Hop featuring DJ Q\, a themed Diner Buffet\, specialty drinks\, and more! Period appropriate costume is welcome but casual attire is just fine too!
URL:https://www.hapennyclub.com/event/50s-60s-dj-dinner-dance/
END:VEVENT
END:VCALENDAR