BEGIN:VCALENDAR
VERSION:2.0
PRODID:-//Ha&#039;Penny Bay Beach Club - ECPv6.15.20//NONSGML v1.0//EN
CALSCALE:GREGORIAN
METHOD:PUBLISH
X-ORIGINAL-URL:https://www.hapennyclub.com
X-WR-CALDESC:Events for Ha&#039;Penny Bay Beach Club
REFRESH-INTERVAL;VALUE=DURATION:PT1H
X-Robots-Tag:noindex
X-PUBLISHED-TTL:PT1H
BEGIN:VTIMEZONE
TZID:America/St_Thomas
BEGIN:STANDARD
TZOFFSETFROM:-0400
TZOFFSETTO:-0400
TZNAME:AST
DTSTART:20130101T000000
END:STANDARD
END:VTIMEZONE
BEGIN:VEVENT
DTSTART;TZID=America/St_Thomas:20141112T090000
DTEND;TZID=America/St_Thomas:20141112T090000
DTSTAMP:20260421T113510
CREATED:20141105T191234Z
LAST-MODIFIED:20141105T191251Z
UID:173-1415782800-1415782800@www.hapennyclub.com
SUMMARY:Yoga
DESCRIPTION:
URL:https://www.hapennyclub.com/event/yoga-2/
END:VEVENT
END:VCALENDAR